BEGIN:VCALENDAR
VERSION:2.0
PRODID:-//Campaign for Dustin Marshall for Dallas ISD - ECPv4.6.20.1//NONSGML v1.0//EN
CALSCALE:GREGORIAN
METHOD:PUBLISH
X-WR-CALNAME:Campaign for Dustin Marshall for Dallas ISD
X-ORIGINAL-URL:https://dustinmarshall.com
X-WR-CALDESC:Events for Campaign for Dustin Marshall for Dallas ISD
BEGIN:VEVENT
DTSTART;TZID=UTC+0:20160503T080000
DTEND;TZID=UTC+0:20160503T200000
DTSTAMP:20260425T170358
CREATED:20150320T211054Z
LAST-MODIFIED:20151217T055419Z
UID:5921-1462262400-1462305600@dustinmarshall.com
SUMMARY:Electorion Day
DESCRIPTION:
URL:https://dustinmarshall.com/event/election-day/
LOCATION:Times Square Manhattan\, New York\, NY\, NY 10036\, United States
CATEGORIES:Campaigns,Election Day
ATTACH;FMTTYPE=image/jpeg:https://dustinmarshall.com/wp-content/uploads/2015/03/02.jpg
ORGANIZER;CN="Dustin%20Marshall%27s%20Team":MAILTO:example@robertjackson.com
END:VEVENT
END:VCALENDAR